Workbook

Sheet Leia-me
A1: Planilha de Bolão Grátis — by Bolão AI (bolaoai.com.br)
A3: COMO USAR
A4: 1. Aba PARTICIPANTES: liste o nome de cada pessoa do bolão (um por linha).
A5: 2. Aba JOGOS: cadastre os jogos da rodada (rodada, data, times). Após cada partida, preencha os gols reais.
A6: 3. Aba PALPITES: uma linha por participante por jogo. Preencha o palpite ANTES do jogo e o resultado real DEPOIS — a coluna Pontos calcula sozinha.
A7: 4. Aba RANKING: a pontuação de cada participante soma automaticamente (SOMASE). Para ordenar, selecione a tabela e ordene pela coluna Pontos.
A9: REGRA DE PONTUAÇÃO (clássica, já configurada na fórmula)
A10: • Placar exato: 10 pontos
A11: • Acertou o vencedor + gols de um dos times: 7 pontos
A12: • Acertou só o vencedor (ou empate com placar diferente): 5 pontos
A13: • Acertou os gols de um time, mas errou o vencedor: 2 pontos
A14: • Errou tudo: 0 pontos
... A24: Crie o seu em 2 minutos: https://bolaoai.com.br/criar-bolao

Sheet Participantes
A1: Nº | B1: Nome | C1: Telefone (opcional)
A2: 1 | B2: Carlos
A3: 2 | B3: Ana
A4: 3 | B4: Bruno
A5: 4 | B5: Duda
A6: 5
A7: 6
A8: 7
A9: 8
A10: 9
A11: 10
A12: 11
A13: 12
A14: 13
A15: 14
A16: 15
A17: 16
... A21: 20

Sheet Jogos
A1: Rodada | B1: Data | C1: Mandante | D1: Gols Mandante | E1: Gols Visitante | F1: Visitante
A2: 1 | B2: Sáb 15:30 | C2: Flamengo | D2: 2 | E2: 1 | F2: Palmeiras
A3: 1 | B3: Sáb 18:00 | C3: Corinthians | F3: São Paulo
A4: 1 | B4: Dom 16:00 | C4: Grêmio | F4: Internacional
A5: 1 | B5: Dom 18:30 | C5: Cruzeiro | F5: Atlético-MG

Sheet Palpites
A1: Participante | B1: Jogo | C1: Palpite Mandante | D1: Palpite Visitante | E1: Resultado Mandante | F1: Resultado Visitante | G1: Pontos
A2: Carlos | B2: Flamengo × Palmeiras | C2: 2 | D2: 1 | E2: 2 | F2: 1 | G2: =IF(OR($E2="",$F2="",$C2="",$D2=""),"",IF(AND($C2=$E2,$D2=$F2),10,IF(SIGN($C2-$D2)=SIGN($E2-$F2),IF(OR($C2=$E2,$D2=$F2),7,5),IF(OR($C2=$E2,$D2=$F2),2,0))))
A3: Ana | B3: Flamengo × Palmeiras | C3: 2 | D3: 0 | E3: 2 | F3: 1 | G3: =IF(OR($E3="",$F3="",$C3="",$D3=""),"",IF(AND($C3=$E3,$D3=$F3),10,IF(SIGN($C3-$D3)=SIGN($E3-$F3),IF(OR($C3=$E3,$D3=$F3),7,5),IF(OR($C3=$E3,$D3=$F3),2,0))))
A4: Bruno | B4: Flamengo × Palmeiras | C4: 1 | D4: 0 | E4: 2 | F4: 1 | G4: =IF(OR($E4="",$F4="",$C4="",$D4=""),"",IF(AND($C4=$E4,$D4=$F4),10,IF(SIGN($C4-$D4)=SIGN($E4-$F4),IF(OR($C4=$E4,$D4=$F4),7,5),IF(OR($C4=$E4,$D4=$F4),2,0))))
A5: Duda | B5: Flamengo × Palmeiras | C5: 1 | D5: 2 | E5: 2 | F5: 1 | G5: =IF(OR($E5="",$F5="",$C5="",$D5=""),"",IF(AND($C5=$E5,$D5=$F5),10,IF(SIGN($C5-$D5)=SIGN($E5-$F5),IF(OR($C5=$E5,$D5=$F5),7,5),IF(OR($C5=$E5,$D5=$F5),2,0))))
G6: =IF(OR($E6="",$F6="",$C6="",$D6=""),"",IF(AND($C6=$E6,$D6=$F6),10,IF(SIGN($C6-$D6)=SIGN($E6-$F6),IF(OR($C6=$E6,$D6=$F6),7,5),IF(OR($C6=$E6,$D6=$F6),2,0))))
G7: =IF(OR($E7="",$F7="",$C7="",$D7=""),"",IF(AND($C7=$E7,$D7=$F7),10,IF(SIGN($C7-$D7)=SIGN($E7-$F7),IF(OR($C7=$E7,$D7=$F7),7,5),IF(OR($C7=$E7,$D7=$F7),2,0))))
G8: =IF(OR($E8="",$F8="",$C8="",$D8=""),"",IF(AND($C8=$E8,$D8=$F8),10,IF(SIGN($C8-$D8)=SIGN($E8-$F8),IF(OR($C8=$E8,$D8=$F8),7,5),IF(OR($C8=$E8,$D8=$F8),2,0))))
G9: =IF(OR($E9="",$F9="",$C9="",$D9=""),"",IF(AND($C9=$E9,$D9=$F9),10,IF(SIGN($C9-$D9)=SIGN($E9-$F9),IF(OR($C9=$E9,$D9=$F9),7,5),IF(OR($C9=$E9,$D9=$F9),2,0))))
G10: =IF(OR($E10="",$F10="",$C10="",$D10=""),"",IF(AND($C10=$E10,$D10=$F10),10,IF(SIGN($C10-$D10)=SIGN($E10-$F10),IF(OR($C10=$E10,$D10=$F10),7,5),IF(OR($C10=$E10,$D10=$F10),2,0))))
G11: =IF(OR($E11="",$F11="",$C11="",$D11=""),"",IF(AND($C11=$E11,$D11=$F11),10,IF(SIGN($C11-$D11)=SIGN($E11-$F11),IF(OR($C11=$E11,$D11=$F11),7,5),IF(OR($C11=$E11,$D11=$F11),2,0))))
G12: =IF(OR($E12="",$F12="",$C12="",$D12=""),"",IF(AND($C12=$E12,$D12=$F12),10,IF(SIGN($C12-$D12)=SIGN($E12-$F12),IF(OR($C12=$E12,$D12=$F12),7,5),IF(OR($C12=$E12,$D12=$F12),2,0))))
G13: =IF(OR($E13="",$F13="",$C13="",$D13=""),"",IF(AND($C13=$E13,$D13=$F13),10,IF(SIGN($C13-$D13)=SIGN($E13-$F13),IF(OR($C13=$E13,$D13=$F13),7,5),IF(OR($C13=$E13,$D13=$F13),2,0))))
G14: =IF(OR($E14="",$F14="",$C14="",$D14=""),"",IF(AND($C14=$E14,$D14=$F14),10,IF(SIGN($C14-$D14)=SIGN($E14-$F14),IF(OR($C14=$E14,$D14=$F14),7,5),IF(OR($C14=$E14,$D14=$F14),2,0))))
G15: =IF(OR($E15="",$F15="",$C15="",$D15=""),"",IF(AND($C15=$E15,$D15=$F15),10,IF(SIGN($C15-$D15)=SIGN($E15-$F15),IF(OR($C15=$E15,$D15=$F15),7,5),IF(OR($C15=$E15,$D15=$F15),2,0))))
G16: =IF(OR($E16="",$F16="",$C16="",$D16=""),"",IF(AND($C16=$E16,$D16=$F16),10,IF(SIGN($C16-$D16)=SIGN($E16-$F16),IF(OR($C16=$E16,$D16=$F16),7,5),IF(OR($C16=$E16,$D16=$F16),2,0))))
G17: =IF(OR($E17="",$F17="",$C17="",$D17=""),"",IF(AND($C17=$E17,$D17=$F17),10,IF(SIGN($C17-$D17)=SIGN($E17-$F17),IF(OR($C17=$E17,$D17=$F17),7,5),IF(OR($C17=$E17,$D17=$F17),2,0))))
... G401: =IF(OR($E401="",$F401="",$C401="",$D401=""),"",IF(AND($C401=$E401,$D401=$F401),10,IF(SIGN($C401-$D401)=SIGN($E401-$F401),IF(OR($C401=$E401,$D401=$F401),7,5),IF(OR($C401=$E401,$D401=$F401),2,0))))

Sheet Ranking
A1: Posição | B1: Participante | C1: Pontos
A2: 1 | B2: =IF(Participantes!B2="","",Participantes!B2) | C2: =IF(B2="","",SUMIF(Palpites!$A:$A,B2,Palpites!$G:$G))
A3: 2 | B3: =IF(Participantes!B3="","",Participantes!B3) | C3: =IF(B3="","",SUMIF(Palpites!$A:$A,B3,Palpites!$G:$G))
A4: 3 | B4: =IF(Participantes!B4="","",Participantes!B4) | C4: =IF(B4="","",SUMIF(Palpites!$A:$A,B4,Palpites!$G:$G))
A5: 4 | B5: =IF(Participantes!B5="","",Participantes!B5) | C5: =IF(B5="","",SUMIF(Palpites!$A:$A,B5,Palpites!$G:$G))
A6: 5 | B6: =IF(Participantes!B6="","",Participantes!B6) | C6: =IF(B6="","",SUMIF(Palpites!$A:$A,B6,Palpites!$G:$G))
A7: 6 | B7: =IF(Participantes!B7="","",Participantes!B7) | C7: =IF(B7="","",SUMIF(Palpites!$A:$A,B7,Palpites!$G:$G))
A8: 7 | B8: =IF(Participantes!B8="","",Participantes!B8) | C8: =IF(B8="","",SUMIF(Palpites!$A:$A,B8,Palpites!$G:$G))
A9: 8 | B9: =IF(Participantes!B9="","",Participantes!B9) | C9: =IF(B9="","",SUMIF(Palpites!$A:$A,B9,Palpites!$G:$G))
A10: 9 | B10: =IF(Participantes!B10="","",Participantes!B10) | C10: =IF(B10="","",SUMIF(Palpites!$A:$A,B10,Palpites!$G:$G))
A11: 10 | B11: =IF(Participantes!B11="","",Participantes!B11) | C11: =IF(B11="","",SUMIF(Palpites!$A:$A,B11,Palpites!$G:$G))
A12: 11 | B12: =IF(Participantes!B12="","",Participantes!B12) | C12: =IF(B12="","",SUMIF(Palpites!$A:$A,B12,Palpites!$G:$G))
A13: 12 | B13: =IF(Participantes!B13="","",Participantes!B13) | C13: =IF(B13="","",SUMIF(Palpites!$A:$A,B13,Palpites!$G:$G))
... A21: 20 | B21: =IF(Participantes!B21="","",Participantes!B21) | C21: =IF(B21="","",SUMIF(Palpites!$A:$A,B21,Palpites!$G:$G))
A23: Dica: para ordenar, selecione as linhas e use Dados > Classificar pela coluna Pontos. No Bolão AI o ranking ordena sozinho ;)
